
BEGIN:VCALENDAR
VERSION:2.0
PRODID:-//Holy Smoke Cigars - ECPv6.15.14//NONSGML v1.0//EN
CALSCALE:GREGORIAN
METHOD:PUBLISH
X-ORIGINAL-URL:https://holysmokecigarsshop.com
X-WR-CALDESC:Events for Holy Smoke Cigars
REFRESH-INTERVAL;VALUE=DURATION:PT1H
X-Robots-Tag:noindex
X-PUBLISHED-TTL:PT1H
BEGIN:VTIMEZONE
TZID:America/New_York
BEGIN:DAYLIGHT
TZOFFSETFROM:-0500
TZOFFSETTO:-0400
TZNAME:EDT
DTSTART:20230312T070000
END:DAYLIGHT
BEGIN:STANDARD
TZOFFSETFROM:-0400
TZOFFSETTO:-0500
TZNAME:EST
DTSTART:20231105T060000
END:STANDARD
BEGIN:DAYLIGHT
TZOFFSETFROM:-0500
TZOFFSETTO:-0400
TZNAME:EDT
DTSTART:20240310T070000
END:DAYLIGHT
BEGIN:STANDARD
TZOFFSETFROM:-0400
TZOFFSETTO:-0500
TZNAME:EST
DTSTART:20241103T060000
END:STANDARD
BEGIN:DAYLIGHT
TZOFFSETFROM:-0500
TZOFFSETTO:-0400
TZNAME:EDT
DTSTART:20250309T070000
END:DAYLIGHT
BEGIN:STANDARD
TZOFFSETFROM:-0400
TZOFFSETTO:-0500
TZNAME:EST
DTSTART:20251102T060000
END:STANDARD
BEGIN:DAYLIGHT
TZOFFSETFROM:-0500
TZOFFSETTO:-0400
TZNAME:EDT
DTSTART:20260308T070000
END:DAYLIGHT
BEGIN:STANDARD
TZOFFSETFROM:-0400
TZOFFSETTO:-0500
TZNAME:EST
DTSTART:20261101T060000
END:STANDARD
END:VTIMEZONE
BEGIN:VEVENT
DTSTART;VALUE=DATE:20240301
DTEND;VALUE=DATE:20240401
DTSTAMP:20260425T201351
CREATED:20240311T181734Z
LAST-MODIFIED:20240311T181734Z
UID:1830-1709251200-1711929599@holysmokecigarsshop.com
SUMMARY:March Insanity All Month Long!  No Sign-Up Fees For Membership!
DESCRIPTION:Throughout the entire month of March 2024\, membership signup fees will be waived!\nCome by the shop or text Dennis at 423-595-3325  for more details!
URL:https://holysmokecigarsshop.com/event/march-insanity-all-month-long-no-sign-up-fees-for-membership/
END:VEVENT
BEGIN:VEVENT
DTSTART;TZID=America/New_York:20240329T100000
DTEND;TZID=America/New_York:20240329T170000
DTSTAMP:20260425T201351
CREATED:20240319T154632Z
LAST-MODIFIED:20240319T154632Z
UID:1890-1711706400-1711731600@holysmokecigarsshop.com
SUMMARY:Haircuts by Sissy!
DESCRIPTION:For $20\, you can have the pleasure of a luxurious new haircut and the opportunity to kick back and enjoy a cigar while it’s taking place!
URL:https://holysmokecigarsshop.com/event/haircuts-by-sissy/
END:VEVENT
BEGIN:VEVENT
DTSTART;TZID=America/New_York:20240406T103000
DTEND;TZID=America/New_York:20240406T140000
DTSTAMP:20260425T201351
CREATED:20240311T183610Z
LAST-MODIFIED:20240311T183610Z
UID:1832-1712399400-1712412000@holysmokecigarsshop.com
SUMMARY:Scenic City Pipe Club Monthly Meet
DESCRIPTION:A get together for all who enjoy pipes or are curious about the hobby.  All are welcome!
URL:https://holysmokecigarsshop.com/event/scenic-city-pipe-club-monthly-meet/
END:VEVENT
BEGIN:VEVENT
DTSTART;TZID=America/New_York:20240509T160000
DTEND;TZID=America/New_York:20240509T210000
DTSTAMP:20260425T201351
CREATED:20240418T200326Z
LAST-MODIFIED:20240418T200326Z
UID:1898-1715270400-1715288400@holysmokecigarsshop.com
SUMMARY:EPIC Postpartum Celebration!
DESCRIPTION:Join us to celebrate yet another trip around the Sun for Dennis!\nTennessee Rebel BBQ will be here with a special menu\, “Cigar Chris” Whaley will be here with special deals from EPC\, beer will be available for purchase\, and as always\, you are welcome to BYOB!
URL:https://holysmokecigarsshop.com/event/epic-postpartum-celebration/
LOCATION:Holy Smoke Cigars\, 6729 Ringgold Road\, East Ridge\, TN\, 37412\, United States
END:VEVENT
BEGIN:VEVENT
DTSTART;TZID=America/New_York:20240526T110000
DTEND;TZID=America/New_York:20240526T160000
DTSTAMP:20260425T201351
CREATED:20240521T184546Z
LAST-MODIFIED:20240522T124336Z
UID:1909-1716721200-1716739200@holysmokecigarsshop.com
SUMMARY:Indy 500 at Holy Smokes!
DESCRIPTION:
URL:https://holysmokecigarsshop.com/event/indy-500-at-holy-smokes/
LOCATION:Holy Smoke Cigars\, 6729 Ringgold Road\, East Ridge\, TN\, 37412\, United States
END:VEVENT
BEGIN:VEVENT
DTSTART;TZID=America/New_York:20240527T140000
DTEND;TZID=America/New_York:20240527T210000
DTSTAMP:20260425T201351
CREATED:20240521T184016Z
LAST-MODIFIED:20240522T124223Z
UID:1906-1716818400-1716843600@holysmokecigarsshop.com
SUMMARY:Memorial Day Extravaganza!
DESCRIPTION:
URL:https://holysmokecigarsshop.com/event/memorial-day-extravaganza/
LOCATION:Holy Smoke Cigars\, 6729 Ringgold Road\, East Ridge\, TN\, 37412\, United States
END:VEVENT
BEGIN:VEVENT
DTSTART;TZID=America/New_York:20240615T110000
DTEND;TZID=America/New_York:20240615T150000
DTSTAMP:20260425T201351
CREATED:20240612T183840Z
LAST-MODIFIED:20240612T183840Z
UID:2000-1718449200-1718463600@holysmokecigarsshop.com
SUMMARY:Wings and Cigars for Dad
DESCRIPTION:NOTE:  This event is at the Harley Dealership and not the cigar shop!!!\n 
URL:https://holysmokecigarsshop.com/event/wings-and-cigars-for-dad/
LOCATION:White Lightning Harley Davidson\, 7720 Lee Highway\, Chattanooga\, TN\, 37421\, United States
END:VEVENT
BEGIN:VEVENT
DTSTART;VALUE=DATE:20240616
DTEND;VALUE=DATE:20240617
DTSTAMP:20260425T201351
CREATED:20240612T182919Z
LAST-MODIFIED:20240612T182919Z
UID:1998-1718496000-1718582399@holysmokecigarsshop.com
SUMMARY:Father's Day
DESCRIPTION:Just a friendly reminder that we will be OPEN for Father’s Day!  Bring dad in for a cigar!
URL:https://holysmokecigarsshop.com/event/fathers-day/
LOCATION:Holy Smoke Cigars\, 6729 Ringgold Road\, East Ridge\, TN\, 37412\, United States
END:VEVENT
BEGIN:VEVENT
DTSTART;TZID=America/New_York:20240622T110000
DTEND;TZID=America/New_York:20240622T180000
DTSTAMP:20260425T201351
CREATED:20240612T185441Z
LAST-MODIFIED:20240612T185441Z
UID:2012-1719054000-1719079200@holysmokecigarsshop.com
SUMMARY:Pipes\, Pork\, Potatoes\, and Pounded Patties
DESCRIPTION:If you’ve ever been interested in joining the pipe gang\, this will be a great opportunity!  This will be a special pipe sale along with delicious food from Tennessee Rebel BBQ!
URL:https://holysmokecigarsshop.com/event/pipes-pork-potatoes-and-pounded-patties/
END:VEVENT
BEGIN:VEVENT
DTSTART;TZID=America/New_York:20240705T130000
DTEND;TZID=America/New_York:20240705T200000
DTSTAMP:20260425T201351
CREATED:20240612T185053Z
LAST-MODIFIED:20240612T185053Z
UID:2007-1720184400-1720209600@holysmokecigarsshop.com
SUMMARY:First Annual Holy Smoked Whole Hog BBQ
DESCRIPTION:Loosen your belts because this one is all you can eat!  Buy your tickets now!!!\nhttps://www.eventbrite.com/e/first-annual-holy-smoked-whole-hog-bbq-tickets-921652727117
URL:https://holysmokecigarsshop.com/event/first-annual-holy-smoked-whole-hog-bbq/
LOCATION:Holy Smoke Cigars\, 6729 Ringgold Road\, East Ridge\, TN\, 37412\, United States
END:VEVENT
BEGIN:VEVENT
DTSTART;TZID=America/New_York:20240914T120000
DTEND;TZID=America/New_York:20240914T170000
DTSTAMP:20260425T201351
CREATED:20240912T195723Z
LAST-MODIFIED:20240912T195723Z
UID:2063-1726315200-1726333200@holysmokecigarsshop.com
SUMMARY:TennGaBama Food and Football
DESCRIPTION:Join us and the Tennessee Rebel for Football\, Food\, and Fun!
URL:https://holysmokecigarsshop.com/event/tenngabama-food-and-football/
END:VEVENT
BEGIN:VEVENT
DTSTART;TZID=America/New_York:20240920T110000
DTEND;TZID=America/New_York:20240920T170000
DTSTAMP:20260425T201351
CREATED:20240919T205308Z
LAST-MODIFIED:20240919T205308Z
UID:2077-1726830000-1726851600@holysmokecigarsshop.com
SUMMARY:Feets\, Don't Fail Us Now! (Pedicures)
DESCRIPTION:Pedicure time!  Get those feet did!
URL:https://holysmokecigarsshop.com/event/feets-dont-fail-us-now-pedicures/
END:VEVENT
BEGIN:VEVENT
DTSTART;TZID=America/New_York:20240921T100000
DTEND;TZID=America/New_York:20240921T200000
DTSTAMP:20260425T201351
CREATED:20240919T205925Z
LAST-MODIFIED:20240919T205925Z
UID:2081-1726912800-1726948800@holysmokecigarsshop.com
SUMMARY:Football Saturday!
DESCRIPTION:
URL:https://holysmokecigarsshop.com/event/football-saturday/
END:VEVENT
BEGIN:VEVENT
DTSTART;TZID=America/New_York:20240927T110000
DTEND;TZID=America/New_York:20240927T170000
DTSTAMP:20260425T201351
CREATED:20240919T205637Z
LAST-MODIFIED:20240919T205637Z
UID:2079-1727434800-1727456400@holysmokecigarsshop.com
SUMMARY:Cut That Shaggy Doo!  (Haircuts!)
DESCRIPTION:Come in and get your hair did!
URL:https://holysmokecigarsshop.com/event/cut-that-shaggy-doo-haircuts/
END:VEVENT
BEGIN:VEVENT
DTSTART;TZID=America/New_York:20241017T170000
DTEND;TZID=America/New_York:20241017T200000
DTSTAMP:20260425T201351
CREATED:20241003T210944Z
LAST-MODIFIED:20241003T210944Z
UID:2084-1729184400-1729195200@holysmokecigarsshop.com
SUMMARY:Chattanooga Whiskey Invades Holy Smoke
DESCRIPTION:You don’t want to miss this one!  Our first event at our new location and Chatt Whiskey is going to bring the heat! \nWe’ll feature “Fall Bottled in Bond\,” “Spring Bottled in Bond\,” and the current experimental batch:  Batch 039: Harvest Bourbon. \nThis is a free event\, but quantities are limited so please call and reserve your spot – 423-595-3325 \n 
URL:https://holysmokecigarsshop.com/event/chattanooga-whiskey-invades-holy-smoke/
END:VEVENT
BEGIN:VEVENT
DTSTART;TZID=America/New_York:20241205T180000
DTEND;TZID=America/New_York:20241205T200000
DTSTAMP:20260425T201351
CREATED:20241204T175148Z
LAST-MODIFIED:20241204T175148Z
UID:2100-1733421600-1733428800@holysmokecigarsshop.com
SUMMARY:East Ridge Bourbon and Scotch Society Tasting
DESCRIPTION:Come one\, come all!  On Thursday\, December 5th\, the Thursday Night Crew will be welcoming another meeting of the East Ridge Bourbon and Scotch Society for another great event. \nThere will be three different bourbons and three different scotches for sample and discussion.  Price for members is $20\, price for non-members is $25\, and this will include your membership into the ERBSS!
URL:https://holysmokecigarsshop.com/event/east-ridge-bourbon-and-scotch-society-tasting/
END:VEVENT
BEGIN:VEVENT
DTSTART;TZID=America/New_York:20250610T100000
DTEND;TZID=America/New_York:20250615T170000
DTSTAMP:20260425T201351
CREATED:20250610T144009Z
LAST-MODIFIED:20250610T144009Z
UID:2110-1749549600-1750006800@holysmokecigarsshop.com
SUMMARY:Father's Day?  Father's WEEK!
DESCRIPTION:Stop by the shop and grab dad a wonderful gift! \n(Ideally before Father’s Day\, but we’ll also be open on the big day in case you need something last minute.) \nTODAY through Saturday\, any LADY who comes in for a gift for Dad will get a $60 gift set for $40! \nBring Dad in on Father’s Day and enjoy a drink and a smoke!  Any Dad who comes in on Father’s Day gets 15% off ANY PRODUCTS! \nWe realize that some of us sons\, daughers\, and dads don’t still have “Dad” with us\, so if you’re not obligated to be somewhere else on Sunday\, enjoy Father’s Day at HSC!
URL:https://holysmokecigarsshop.com/event/fathers-day-fathers-week/
LOCATION:Holy Smoke Cigars\, 6729 Ringgold Road\, East Ridge\, TN\, 37412\, United States
END:VEVENT
BEGIN:VEVENT
DTSTART;TZID=America/New_York:20250619T183000
DTEND;TZID=America/New_York:20250619T200000
DTSTAMP:20260425T201351
CREATED:20250610T144631Z
LAST-MODIFIED:20250610T144631Z
UID:2115-1750357800-1750363200@holysmokecigarsshop.com
SUMMARY:LockerPalooza!
DESCRIPTION:It’s time for you to do your part to expand our family!  If you get someone to take a locker membership of ANY LEVEL\, YOU will get $50 worth of cigars that night! \nDennis will even sweeten the pot by having some good whiskey on hand! \n \n 
URL:https://holysmokecigarsshop.com/event/lockerpalooza/
LOCATION:Holy Smoke Cigars\, 6729 Ringgold Road\, East Ridge\, TN\, 37412\, United States
END:VEVENT
BEGIN:VEVENT
DTSTART;VALUE=DATE:20250830
DTEND;VALUE=DATE:20250831
DTSTAMP:20260425T201351
CREATED:20250613T192149Z
LAST-MODIFIED:20250613T192149Z
UID:2121-1756512000-1756598399@holysmokecigarsshop.com
SUMMARY:Preliminary Info for a Poker Run!
DESCRIPTION:It’s a POKER RUN! \n \nOn Saturday\, August 30th\, we’ll sponsor/host our first Motorcycle Poker Run! It’ll start in Dalton at Cigar Tyme\, and end at HSC. Five Cigar Lounges will participate\, and EA Powersports will be the East Ridge Cycle Shop that provides our 1st\, 2nd\, and 3rd Place Winners (along with all the Cigar Shops!). \nFull details to follow soon!
URL:https://holysmokecigarsshop.com/event/preliminary-info-for-a-poker-run/
END:VEVENT
END:VCALENDAR